BEGIN:VCALENDAR
VERSION:2.0
PRODID:-//www.casalancleb.org//NONSGML kigkonsult.se iCalcreator 2.30.10//
CALSCALE:GREGORIAN
METHOD:PUBLISH
UID:d7fed688-af22-4bea-8062-717bff041ed9
X-WR-CALDESC:Thank you for your interest in Court Appointed Special Advocat
 es (CASA) of Lancaster and Lebanon Counties. Our Becoming a CASA Virtual I
 nformation Session will cover the history of CASA\, the role and duties of
  a CASA\, and next steps to joining our program. A current CASA will also 
 be at the session to share their experiences. The session will be approxim
 ately 30-45 minutes in duration.
X-WR-RELCALID:a9a186ecf299b4da7f1cb08e0b2a94f0
X-WR-TIMEZONE:America/New_York
BEGIN:VTIMEZONE
TZID:America/New_York
BEGIN:STANDARD
TZNAME:EST
DTSTART:20251102T020000
TZOFFSETFROM:-0400
TZOFFSETTO:-0500
RDATE:20261101T020000
RDATE:20271107T020000
END:STANDARD
BEGIN:DAYLIGHT
TZNAME:EDT
DTSTART:20260308T020000
TZOFFSETFROM:-0500
TZOFFSETTO:-0400
RDATE:20270314T020000
END:DAYLIGHT
END:VTIMEZONE
BEGIN:VEVENT
UID:b2e4d607-a671-4d71-9f4f-b8abd91d88b6
DTSTAMP:20260424T174843Z
DESCRIPTION:Thank you for your interest in Court Appointed Special Advocate
 s (CASA) of Lancaster and Lebanon Counties. Our Becoming a CASA Virtual In
 formation Session will cover the history of CASA\, the role and duties of 
 a CASA\, and next steps to joining our program. A current CASA will also b
 e at the session to share their experiences. The session will be approxima
 tely 30-45 minutes in duration.
DTSTART;TZID=America/New_York:20260608T173000
DTEND;TZID=America/New_York:20260608T183000
LOCATION:Church of the Apostles UCC\, 1850 Marietta Ave\, Lancaster\, PA 17
 603 US
SUMMARY:Becoming a CASA In-person Info Session
END:VEVENT
END:VCALENDAR
